BEGIN:VCALENDAR
VERSION:2.0
PRODID:-//ChamberMaster//Event Calendar 2.0//EN
METHOD:PUBLISH
X-PUBLISHED-TTL:P3D
REFRESH-INTERVAL:P3D
CALSCALE:GREGORIAN
BEGIN:VEVENT
DTSTART:20211214T220000Z
DTEND:20211215T000000Z
X-MICROSOFT-CDO-ALLDAYEVENT:FALSE
SUMMARY:Reception for Ellen Redding
DESCRIPTION:You are invited to a reception for Ellen Redding\, outgoing president of the Henderson Chamber of Commerce.  \n\n\n\nPlease RSVP by:  Noon\, December 10
X-ALT-DESC;FMTTYPE=text/html:You are invited to a reception for Ellen Redding\, outgoing president of the Henderson Chamber of Commerce.&nbsp\;&nbsp\;<br>\n<br>\nPlease RSVP by:&nbsp\; Noon\, December 10&nbsp\;
LOCATION:Hometown Roots\, Gatsby Room 136 Second St. Henderson\, KY. 42420
UID:e.1514.572819
SEQUENCE:3
DTSTAMP:20260424T134724Z
URL:https://business.hendersonkychamber.com/events/details/reception-for-ellen-redding-572819
END:VEVENT

END:VCALENDAR
