BEGIN:VCALENDAR
VERSION:2.0
PRODID:-//ChamberMaster//Event Calendar 2.0//EN
METHOD:PUBLISH
X-PUBLISHED-TTL:P3D
REFRESH-INTERVAL:P3D
CALSCALE:GREGORIAN
BEGIN:VEVENT
DTSTART:20210507T170000Z
DTEND:20210507T173000Z
X-MICROSOFT-CDO-ALLDAYEVENT:FALSE
SUMMARY:Ribbon Cutting: Baker Family Chiropractic
DESCRIPTION:Ribbon Cutting: Baker Family Chiropractic \n\nFriday\, May 7th \n\n12:00 p.m.\n\n\n\nRibbon cutting sponsor:  Independence Bank
X-ALT-DESC;FMTTYPE=text/html:Ribbon Cutting: Baker Family Chiropractic&nbsp\;<br />\nFriday\, May 7th&nbsp\;<br />\n12:00 p.m.<br />\n<br />\n<em>Ribbon cutting sponsor:&nbsp\;&nbsp\;</em>Independence Bank
LOCATION:319 8th Street Henderson\, KY 42420
UID:e.1514.572774
SEQUENCE:3
DTSTAMP:20260425T012003Z
URL:https://business.hendersonkychamber.com/events/details/ribbon-cutting-baker-family-chiropractic-572774
END:VEVENT

END:VCALENDAR
