BEGIN:VCALENDAR
VERSION:2.0
PRODID:-//ChamberMaster//Event Calendar 2.0//EN
METHOD:PUBLISH
X-PUBLISHED-TTL:P3D
REFRESH-INTERVAL:P3D
CALSCALE:GREGORIAN
BEGIN:VEVENT
DTSTART:20200212T173000Z
DTEND:20200212T180000Z
X-MICROSOFT-CDO-ALLDAYEVENT:FALSE
SUMMARY:Ribbon cutting: Beverage Barn
DESCRIPTION:Ribbon cutting:  Beverage Barn \n\nWednesday\, February 12\n\n11:30 a.m.\n\n460 S. Green Street\, Henderson\, KY
X-ALT-DESC;FMTTYPE=text/html:Ribbon cutting:&nbsp\; Beverage Barn&nbsp\;<br />\nWednesday\, February 12<br />\n11:30 a.m.<br />\n460 S. Green Street\, Henderson\, KY
LOCATION:
UID:e.1514.572475
SEQUENCE:3
DTSTAMP:20260426T005643Z
URL:https://business.hendersonkychamber.com/events/details/ribbon-cutting-beverage-barn-572475
END:VEVENT

END:VCALENDAR
