BEGIN:VCALENDAR
VERSION:2.0
PRODID:-//ChamberMaster//Event Calendar 2.0//EN
METHOD:PUBLISH
X-PUBLISHED-TTL:P3D
REFRESH-INTERVAL:P3D
CALSCALE:GREGORIAN
BEGIN:VEVENT
DTSTART:20210727T163000Z
DTEND:20210727T170000Z
X-MICROSOFT-CDO-ALLDAYEVENT:FALSE
SUMMARY:Ribbon Cutting: BrightView
DESCRIPTION:Ribbon Cutting:  BrightView\n\nTuesday\, July 27\n\n11:30 a.m. \n\n500 North Green Street\, Henderson\, KY\n\nLight lunch provided!
X-ALT-DESC;FMTTYPE=text/html:Ribbon Cutting:&nbsp\; BrightView<br />\nTuesday\, July 27<br />\n11:30 a.m.&nbsp\;<br />\n500 North Green Street\, Henderson\, KY<br />\n<em>Light lunch provided!&nbsp\;&nbsp\;</em>
LOCATION:
UID:e.1514.572793
SEQUENCE:3
DTSTAMP:20260424T202542Z
URL:https://business.hendersonkychamber.com/events/details/ribbon-cutting-brightview-572793
END:VEVENT

END:VCALENDAR
