BEGIN:VCALENDAR
VERSION:2.0
PRODID:-//ChamberMaster//Event Calendar 2.0//EN
METHOD:PUBLISH
X-PUBLISHED-TTL:P3D
REFRESH-INTERVAL:P3D
CALSCALE:GREGORIAN
BEGIN:VEVENT
DTSTART:20210722T134500Z
DTEND:20210722T144500Z
X-MICROSOFT-CDO-ALLDAYEVENT:FALSE
SUMMARY:Ribbon Cutting: Burkes Outlet
DESCRIPTION:Burkes Outlet   \n\nJuly 22nd at 8:45 a.m. \n\nZion Rd. \n\nHenderson\, KY 42420
X-ALT-DESC;FMTTYPE=text/html:Burkes Outlet&nbsp\; &nbsp\;<br />\nJuly 22nd at 8:45 a.m.&nbsp\;<br />\nZion Rd.&nbsp\;<br />\nHenderson\, KY 42420&nbsp\;
LOCATION:
UID:e.1514.572785
SEQUENCE:3
DTSTAMP:20260424T220633Z
URL:https://business.hendersonkychamber.com/events/details/ribbon-cutting-burkes-outlet-572785
END:VEVENT

END:VCALENDAR
