BEGIN:VCALENDAR
VERSION:2.0
PRODID:-//ChamberMaster//Event Calendar 2.0//EN
METHOD:PUBLISH
X-PUBLISHED-TTL:P3D
REFRESH-INTERVAL:P3D
CALSCALE:GREGORIAN
BEGIN:VEVENT
DTSTART:20210507T180000Z
DTEND:20210507T183000Z
X-MICROSOFT-CDO-ALLDAYEVENT:FALSE
SUMMARY:Ribbon Cutting: Car-Mart of Henderson
DESCRIPTION:Ribbon Cutting/Grand Re-Opening:  Car-Mart of Henderson\n\n2214 Highway 41 North\, Henderson\, KY\n\nFriday\, May 7th \n\nRibbon Cutting at 1:00 p.m.\n\n12:30 p.m. presentation of Imagination Library donation \n\n11:00 a.m. - 6:00 p.m. Grand Re-Opening Celebration\n\nDrawing at 6:00 p.m. for 55" television - must be present to win\n\n\n\nRibbon cutting sponsor:  Independence Bank
X-ALT-DESC;FMTTYPE=text/html:Ribbon Cutting/Grand Re-Opening:&nbsp\; Car-Mart of Henderson<br />\n2214 Highway 41 North\, Henderson\, KY<br />\nFriday\, May 7th&nbsp\;<br />\n<em>Ribbon Cutting at 1:00 p.m.<br />\n12:30 p.m. presentation of Imagination Library donation&nbsp\;</em><br />\n<em>11:00 a.m. - 6:00 p.m. Grand Re-Opening Celebration</em><br />\nDrawing at 6:00 p.m. for 55&quot\; television -&nbsp\;<em>must be present to win</em><br />\n<br />\n<i>Ribbon cutting sponsor:&nbsp\;&nbsp\;</i>Independence Bank<br />\n&nbsp\;
LOCATION:
UID:e.1514.572770
SEQUENCE:3
DTSTAMP:20260424T233956Z
URL:https://business.hendersonkychamber.com/events/details/ribbon-cutting-car-mart-of-henderson-572770
END:VEVENT

END:VCALENDAR
