BEGIN:VCALENDAR
VERSION:2.0
PRODID:-//ChamberMaster//Event Calendar 2.0//EN
METHOD:PUBLISH
X-PUBLISHED-TTL:P3D
REFRESH-INTERVAL:P3D
CALSCALE:GREGORIAN
BEGIN:VEVENT
DTSTART:20210527T143000Z
DTEND:20210527T150000Z
X-MICROSOFT-CDO-ALLDAYEVENT:FALSE
SUMMARY:Ribbon Cutting: Chef What BBQ and More
DESCRIPTION:Ribbon Cutting:  Chef What BBQ and More \n\nMay 27th at 9:30 a.m.\n\n422 7th Street \n\nHenderson\, KY 42420
X-ALT-DESC;FMTTYPE=text/html:Ribbon Cutting:&nbsp\; Chef What BBQ and More&nbsp\;<br>\nMay 27th at 9:30 a.m.<br>\n422 7th Street&nbsp\;<br>\nHenderson\, KY 42420&nbsp\;
LOCATION:
UID:e.1514.572782
SEQUENCE:3
DTSTAMP:20260424T235644Z
URL:https://business.hendersonkychamber.com/events/details/ribbon-cutting-chef-what-bbq-and-more-572782
END:VEVENT

END:VCALENDAR
