BEGIN:VCALENDAR
VERSION:2.0
PRODID:-//ChamberMaster//Event Calendar 2.0//EN
METHOD:PUBLISH
X-PUBLISHED-TTL:P3D
REFRESH-INTERVAL:P3D
CALSCALE:GREGORIAN
BEGIN:VEVENT
DTSTART:20210416T163000Z
DTEND:20210416T170000Z
X-MICROSOFT-CDO-ALLDAYEVENT:FALSE
SUMMARY:Ribbon Cutting: Cottage Wig Shoppe
DESCRIPTION:Ribbon Cutting:  Cottage Wig Shoppe\n\nFriday\, April 16\n\n11:30 a.m.\n\n137 Second Street\, Henderson\, KY\n\n\n\nRibbon cutting sponsor:  Independence Bank
X-ALT-DESC;FMTTYPE=text/html:Ribbon Cutting:&nbsp\; <a href="https://www.cottagewigs.com/">Cottage Wig Shoppe</a><br />\nFriday\, April 16<br />\n11:30 a.m.<br />\n137 Second Street\, Henderson\, KY<br />\n<br />\n<em>Ribbon cutting sponsor:&nbsp\;&nbsp\;</em>Independence Bank
LOCATION:
UID:e.1514.572768
SEQUENCE:3
DTSTAMP:20260425T025212Z
URL:https://business.hendersonkychamber.com/events/details/ribbon-cutting-cottage-wig-shoppe-572768
END:VEVENT

END:VCALENDAR
