BEGIN:VCALENDAR
VERSION:2.0
PRODID:-//ChamberMaster//Event Calendar 2.0//EN
METHOD:PUBLISH
X-PUBLISHED-TTL:P3D
REFRESH-INTERVAL:P3D
CALSCALE:GREGORIAN
BEGIN:VEVENT
DTSTART:20210803T180000Z
DTEND:20210803T183000Z
X-MICROSOFT-CDO-ALLDAYEVENT:FALSE
SUMMARY:Ribbon Cutting: Elite Downtown
DESCRIPTION:Ribbon Cutting:  Elite Downtown\n\n213 Second St.  Henderson\, KY. 42420\n\nAugust 3\n\n1:00 p.m.\n\nRibbon Cutting Sponsor:  Independence Bank
X-ALT-DESC;FMTTYPE=text/html:Ribbon Cutting:&nbsp\; Elite Downtown<br />\n213 Second St.&nbsp\; Henderson\, KY. 42420<br />\nAugust 3<br />\n1:00 p.m.<br />\nRibbon Cutting Sponsor:&nbsp\; Independence Bank
LOCATION:
UID:e.1514.572801
SEQUENCE:3
DTSTAMP:20260424T202537Z
URL:https://business.hendersonkychamber.com/events/details/ribbon-cutting-elite-downtown-572801
END:VEVENT

END:VCALENDAR
