BEGIN:VCALENDAR
VERSION:2.0
PRODID:-//ChamberMaster//Event Calendar 2.0//EN
METHOD:PUBLISH
X-PUBLISHED-TTL:P3D
REFRESH-INTERVAL:P3D
CALSCALE:GREGORIAN
BEGIN:VEVENT
DTSTART:20220323T163000Z
DTEND:20220323T170000Z
X-MICROSOFT-CDO-ALLDAYEVENT:FALSE
SUMMARY:Ribbon Cutting: Falcon Creek Boutique
DESCRIPTION:Ribbon Cutting:  Falcon Creek Boutique \n\nWednesday\, March 23\n\n11:30 a.m. \n\n1648 2nd Street\, Henderson\, KY
X-ALT-DESC;FMTTYPE=text/html:Ribbon Cutting:&nbsp\; Falcon Creek Boutique&nbsp\;<br />\nWednesday\, March 23<br />\n11:30 a.m.&nbsp\;<br />\n1648 2nd Street\, Henderson\, KY
LOCATION:
UID:e.1514.572832
SEQUENCE:3
DTSTAMP:20260422T075335Z
URL:https://business.hendersonkychamber.com/events/details/ribbon-cutting-falcon-creek-boutique-572832
END:VEVENT

END:VCALENDAR
