BEGIN:VCALENDAR
VERSION:2.0
PRODID:-//ChamberMaster//Event Calendar 2.0//EN
METHOD:PUBLISH
X-PUBLISHED-TTL:P3D
REFRESH-INTERVAL:P3D
CALSCALE:GREGORIAN
BEGIN:VEVENT
DTSTART:20210723T140000Z
DTEND:20210723T143000Z
X-MICROSOFT-CDO-ALLDAYEVENT:FALSE
SUMMARY:Ribbon Cutting: Farm Girl LLC
DESCRIPTION:Ribbon Cutting:  Farm Girl LLC\n\nFriday\, July 23\n\n9:00a.m.\n\n317 Second Street\, Corydon\, KY  \n\nRibbon Cutting Sponsor:  Independence Bank
X-ALT-DESC;FMTTYPE=text/html:Ribbon Cutting:&nbsp\; Farm Girl LLC<br />\nFriday\, July 23<br />\n9:00a.m.<br />\n317 Second Street\, Corydon\, KY&nbsp\;&nbsp\;<br />\nRibbon Cutting Sponsor:&nbsp\; Independence Bank
LOCATION:
UID:e.1514.572794
SEQUENCE:3
DTSTAMP:20260424T221513Z
URL:https://business.hendersonkychamber.com/events/details/ribbon-cutting-farm-girl-llc-572794
END:VEVENT

END:VCALENDAR
