BEGIN:VCALENDAR
VERSION:2.0
PRODID:-//ChamberMaster//Event Calendar 2.0//EN
METHOD:PUBLISH
X-PUBLISHED-TTL:P3D
REFRESH-INTERVAL:P3D
CALSCALE:GREGORIAN
BEGIN:VEVENT
DTSTART:20210609T160000Z
DTEND:20210610T000000Z
X-MICROSOFT-CDO-ALLDAYEVENT:FALSE
SUMMARY:Ribbon Cutting: Foreman Watson Land Title\, LLC
DESCRIPTION:Ribbon Cutting: Foreman Watson Land Title\, LLC \n\nWednesday\, June 9th\n\n11:00 a.m.
X-ALT-DESC;FMTTYPE=text/html:Ribbon Cutting: Foreman Watson Land Title\, LLC&nbsp\;<br />\nWednesday\, June 9th<br />\n11:00 a.m.&nbsp\;
LOCATION:230 Second Street\, Ste. 207 Henderson\, KY 42420
UID:e.1514.572781
SEQUENCE:3
DTSTAMP:20260424T233833Z
URL:https://business.hendersonkychamber.com/events/details/ribbon-cutting-foreman-watson-land-title-llc-572781
END:VEVENT

END:VCALENDAR
