BEGIN:VCALENDAR
VERSION:2.0
PRODID:-//ChamberMaster//Event Calendar 2.0//EN
METHOD:PUBLISH
X-PUBLISHED-TTL:P3D
REFRESH-INTERVAL:P3D
CALSCALE:GREGORIAN
BEGIN:VEVENT
DTSTART:20211105T210000Z
DTEND:20211105T213000Z
X-MICROSOFT-CDO-ALLDAYEVENT:FALSE
SUMMARY:Ribbon Cutting/Grand Opening: The Depot Welcome Center
DESCRIPTION:Ribbon Cutting/Grand Opening:  The Depot Welcome Center featuring Gallery 101\n\nFriday\, November 5\n\n4:00 p.m.\n\n101 N. Water Street\, Henderson\, KY\n\nRibbon Cutting Sponsor:  Independence Bank
X-ALT-DESC;FMTTYPE=text/html:Ribbon Cutting/Grand Opening:&nbsp\; <em>The Depot Welcome Center featuring Gallery 101</em><br />\nFriday\, November 5<br />\n4:00 p.m.<br />\n101 N. Water Street\, Henderson\, KY<br />\nRibbon Cutting Sponsor:&nbsp\;&nbsp\;<span style="color:#006400\;"><strong>Independence Bank</strong></span><br />\n<br />\n&nbsp\;
LOCATION:
UID:e.1514.572814
SEQUENCE:3
DTSTAMP:20260424T135400Z
URL:https://business.hendersonkychamber.com/events/details/ribbon-cutting-grand-opening-the-depot-welcome-center-572814
END:VEVENT

END:VCALENDAR
