BEGIN:VCALENDAR
VERSION:2.0
PRODID:-//ChamberMaster//Event Calendar 2.0//EN
METHOD:PUBLISH
X-PUBLISHED-TTL:P3D
REFRESH-INTERVAL:P3D
CALSCALE:GREGORIAN
BEGIN:VEVENT
DTSTART:20260211T180000Z
DTEND:20260211T183000Z
X-MICROSOFT-CDO-ALLDAYEVENT:FALSE
SUMMARY:Ribbon Cutting: Henderson City-County Airport
DESCRIPTION:Henderson City-County Airport Ribbon Cutting\n\nWednesday\, February 11 at 12:00 pm\n\n2154 State Route 136 West\, Henderson\, KY 42420\n\nRibbon Cutting Sponsor: Field & Main Bank
X-ALT-DESC;FMTTYPE=text/html:<strong>Henderson City-County Airport Ribbon Cutting</strong><br />\nWednesday\, February 11 at 12:00 pm<br />\n2154 State Route 136 West\, Henderson\, KY 42420<br />\nRibbon Cutting Sponsor: Field &amp\; Main Bank
LOCATION:Henderson City-County Airport 2154 State Route 136 West Henderson\, KY 42420
UID:e.1514.573074
SEQUENCE:3
DTSTAMP:20260421T124603Z
URL:https://business.hendersonkychamber.com/events/details/ribbon-cutting-henderson-city-county-airport-573074
END:VEVENT

END:VCALENDAR
