BEGIN:VCALENDAR
VERSION:2.0
PRODID:-//ChamberMaster//Event Calendar 2.0//EN
METHOD:PUBLISH
X-PUBLISHED-TTL:P3D
REFRESH-INTERVAL:P3D
CALSCALE:GREGORIAN
BEGIN:VEVENT
DTSTART:20210426T160000Z
DTEND:20210426T163000Z
X-MICROSOFT-CDO-ALLDAYEVENT:FALSE
SUMMARY:Ribbon Cutting: Henderson Community College Bookstore
DESCRIPTION:Ribbon Cutting:  Henderson Community College Bookstore located in the HCC Academic Technical Bldg. \n\n2660 S. Green Street\, Henderson\, KY  \n\nMonday\, April 26\n\n11:00 a.m.\n\n\n\nRibbon cutting sponsor:  Independence Bank
X-ALT-DESC;FMTTYPE=text/html:Ribbon Cutting:&nbsp\; Henderson Community College Bookstore located in the HCC Academic Technical Bldg.&nbsp\;<br />\n2660 S. Green Street\, Henderson\, KY&nbsp\;&nbsp\;<br />\nMonday\, April 26<br />\n11:00 a.m.<br />\n<br />\n<em>Ribbon cutting sponsor:&nbsp\;&nbsp\;</em>Independence Bank&nbsp\;
LOCATION:
UID:e.1514.572771
SEQUENCE:3
DTSTAMP:20260425T025439Z
URL:https://business.hendersonkychamber.com/events/details/ribbon-cutting-henderson-community-college-bookstore-572771
END:VEVENT

END:VCALENDAR
