BEGIN:VCALENDAR
VERSION:2.0
PRODID:-//ChamberMaster//Event Calendar 2.0//EN
METHOD:PUBLISH
X-PUBLISHED-TTL:P3D
REFRESH-INTERVAL:P3D
CALSCALE:GREGORIAN
BEGIN:VEVENT
DTSTART:20220215T160000Z
DTEND:20220215T163000Z
X-MICROSOFT-CDO-ALLDAYEVENT:FALSE
SUMMARY:Ribbon Cutting: Henderson Juice Co.
DESCRIPTION:Ribbon Cutting:  Henderson Juice Co.\n\nTuesday\, February 15\n\n10:00 a.m.\n\n108 Second Street\, Henderson\, KY\n\nRibbon Cutting Sponsor:  Independence Bank
X-ALT-DESC;FMTTYPE=text/html:Ribbon Cutting:&nbsp\; Henderson Juice Co.<br />\nTuesday\, February 15<br />\n10:00 a.m.<br />\n108 Second Street\, Henderson\, KY<br />\nRibbon Cutting Sponsor:&nbsp\; <span style="color:#006400\;"><strong>Independence Bank</strong></span>
LOCATION:
UID:e.1514.572827
SEQUENCE:3
DTSTAMP:20260422T094229Z
URL:https://business.hendersonkychamber.com/events/details/ribbon-cutting-henderson-juice-co-572827
END:VEVENT

END:VCALENDAR
