BEGIN:VCALENDAR
VERSION:2.0
PRODID:-//ChamberMaster//Event Calendar 2.0//EN
METHOD:PUBLISH
X-PUBLISHED-TTL:P3D
REFRESH-INTERVAL:P3D
CALSCALE:GREGORIAN
BEGIN:VEVENT
DTSTART:20210707T160000Z
DTEND:20210707T163000Z
X-MICROSOFT-CDO-ALLDAYEVENT:FALSE
SUMMARY:Ribbon Cutting: Henderson Nutrition
DESCRIPTION:Ribbon Cutting:  Henderson Nutrition \n\nWednesday\, July 7\n\n11:00 a.m..\n\n107 N. Main Street\, Henderson
X-ALT-DESC;FMTTYPE=text/html:Ribbon Cutting:&nbsp\; Henderson Nutrition&nbsp\;<br />\nWednesday\, July 7<br />\n11:00 a.m..<br />\n107 N. Main Street\, Henderson<br />\n&nbsp\;
LOCATION:
UID:e.1514.572790
SEQUENCE:3
DTSTAMP:20260424T202711Z
URL:https://business.hendersonkychamber.com/events/details/ribbon-cutting-henderson-nutrition-572790
END:VEVENT

END:VCALENDAR
