BEGIN:VCALENDAR
VERSION:2.0
PRODID:-//ChamberMaster//Event Calendar 2.0//EN
METHOD:PUBLISH
X-PUBLISHED-TTL:P3D
REFRESH-INTERVAL:P3D
CALSCALE:GREGORIAN
BEGIN:VEVENT
DTSTART:20211116T153000Z
DTEND:20211116T160000Z
X-MICROSOFT-CDO-ALLDAYEVENT:FALSE
SUMMARY:Ribbon Cutting: Homer's Barbecue
DESCRIPTION:Ribbon Cutting:  Homer's Barbecue\n\nTuesday\, November 16\n\n9:30 a.m.\n\n128 Second Street\, Henderson\, KY\n\nRibbon Cutting Sponsor:  Independence Bank
X-ALT-DESC;FMTTYPE=text/html:Ribbon Cutting:&nbsp\; Homer&#39\;s Barbecue<br />\nTuesday\, November 16<br />\n9:30 a.m.<br />\n128 Second Street\, Henderson\, KY<br />\nRibbon Cutting Sponsor:&nbsp\; <span style="color:#006400\;"><strong>Independence Bank</strong></span>
LOCATION:
UID:e.1514.572815
SEQUENCE:3
DTSTAMP:20260424T135154Z
URL:https://business.hendersonkychamber.com/events/details/ribbon-cutting-homer-s-barbecue-572815
END:VEVENT

END:VCALENDAR
