BEGIN:VCALENDAR
VERSION:2.0
PRODID:-//ChamberMaster//Event Calendar 2.0//EN
METHOD:PUBLISH
X-PUBLISHED-TTL:P3D
REFRESH-INTERVAL:P3D
CALSCALE:GREGORIAN
BEGIN:VEVENT
DTSTART:20210514T161500Z
DTEND:20210515T000000Z
X-MICROSOFT-CDO-ALLDAYEVENT:FALSE
SUMMARY:Ribbon Cutting: Hometown Vision Care\, LLC
DESCRIPTION:Ribbon Cutting: Hometown Vision Care\, LLC \n\nFriday\, May 14th \n\n11:15 am \n\n1035 N. Elm Street\,\n\nHenderson\, KY 42420
X-ALT-DESC;FMTTYPE=text/html:Ribbon Cutting: Hometown Vision Care\, LLC&nbsp\;<br />\nFriday\, May 14th&nbsp\;<br />\n11:15 am&nbsp\;<br />\n1035 N. Elm Street\,<br />\nHenderson\, KY 42420<br />\n&nbsp\;
LOCATION:
UID:e.1514.572778
SEQUENCE:3
DTSTAMP:20260424T233827Z
URL:https://business.hendersonkychamber.com/events/details/ribbon-cutting-hometown-vision-care-llc-572778
END:VEVENT

END:VCALENDAR
