BEGIN:VCALENDAR
VERSION:2.0
PRODID:-//ChamberMaster//Event Calendar 2.0//EN
METHOD:PUBLISH
X-PUBLISHED-TTL:P3D
REFRESH-INTERVAL:P3D
CALSCALE:GREGORIAN
BEGIN:VEVENT
DTSTART:20211022T163000Z
DTEND:20211022T170000Z
X-MICROSOFT-CDO-ALLDAYEVENT:FALSE
SUMMARY:Ribbon Cutting: J.O.S. Staffing
DESCRIPTION:Ribbon Cutting:  J.O.S. Staffing (new location)\n\n11:30 a.m.\n\n116 1/2 North Main Street\, Suite 202\, Henderson \n\nRefreshments provided!
X-ALT-DESC;FMTTYPE=text/html:Ribbon Cutting:&nbsp\; J.O.S. Staffing (new location)<br />\n11:30 a.m.<br />\n116 1/2 North Main Street\, Suite 202\, Henderson&nbsp\;<br />\n<em>Refreshments provided!</em><br />\n&nbsp\;
LOCATION:
UID:e.1514.572811
SEQUENCE:3
DTSTAMP:20260424T160049Z
URL:https://business.hendersonkychamber.com/events/details/ribbon-cutting-j-o-s-staffing-572811
END:VEVENT

END:VCALENDAR
