BEGIN:VCALENDAR
VERSION:2.0
PRODID:-//ChamberMaster//Event Calendar 2.0//EN
METHOD:PUBLISH
X-PUBLISHED-TTL:P3D
REFRESH-INTERVAL:P3D
CALSCALE:GREGORIAN
BEGIN:VEVENT
DTSTART:20250729T153000Z
DTEND:20250729T160000Z
X-MICROSOFT-CDO-ALLDAYEVENT:FALSE
SUMMARY:Ribbon Cutting: Jagoe Homes
DESCRIPTION:Jagoe Homes\n\nTuesday\, July 29th at 10:30 a.m.\n\n317 S Bentley Drive\, Henderson\, KY 42420\n\nRibbon Cutting Sponsor: Field & Main Bank
X-ALT-DESC;FMTTYPE=text/html:<b>Jagoe Homes</b><br />\nTuesday\, July 29th&nbsp\;at 10:30 a.m.<br />\n317 S Bentley Drive\, Henderson\, KY 42420<br />\nRibbon Cutting Sponsor: Field &amp\; Main Bank<br />\n&nbsp\;
LOCATION:317 S Bentley Drive\, Henderson\, KY 42420
UID:e.1514.573038
SEQUENCE:3
DTSTAMP:20260422T215602Z
URL:https://business.hendersonkychamber.com/events/details/ribbon-cutting-jagoe-homes-573038
END:VEVENT

END:VCALENDAR
