BEGIN:VCALENDAR
VERSION:2.0
PRODID:-//ChamberMaster//Event Calendar 2.0//EN
METHOD:PUBLISH
X-PUBLISHED-TTL:P3D
REFRESH-INTERVAL:P3D
CALSCALE:GREGORIAN
BEGIN:VEVENT
DTSTART:20210817T161500Z
DTEND:20210817T164500Z
X-MICROSOFT-CDO-ALLDAYEVENT:FALSE
SUMMARY:Ribbon Cutting: Momentum Physical Therapy
DESCRIPTION:Ribbon Cutting:  Momentum Physical Therapy\n\nTuesday\, August 17\n\n11:15 a.m.\n\n116 1/2 North Main Street\, Suite 201\, Henderson\, KY\n\nRibbon Cutting Sponsor:  INDEPENDENCE BANK
X-ALT-DESC;FMTTYPE=text/html:Ribbon Cutting:&nbsp\; Momentum Physical Therapy<br />\nTuesday\, August 17<br />\n11:15 a.m.<br />\n116 1/2 North Main Street\, Suite 201\, Henderson\, KY<br />\nRibbon Cutting Sponsor:&nbsp\;&nbsp\;<span style="color:#008000\;"><strong>INDEPENDENCE BANK&nbsp\;</strong></span>
LOCATION:
UID:e.1514.572802
SEQUENCE:3
DTSTAMP:20260424T202711Z
URL:https://business.hendersonkychamber.com/events/details/ribbon-cutting-momentum-physical-therapy-572802
END:VEVENT

END:VCALENDAR
