BEGIN:VCALENDAR
VERSION:2.0
PRODID:-//ChamberMaster//Event Calendar 2.0//EN
METHOD:PUBLISH
X-PUBLISHED-TTL:P3D
REFRESH-INTERVAL:P3D
CALSCALE:GREGORIAN
BEGIN:VEVENT
DTSTART:20210720T160000Z
DTEND:20210720T180000Z
X-MICROSOFT-CDO-ALLDAYEVENT:FALSE
SUMMARY:Ribbon Cutting/Open House: AgRevolution\, LLC
DESCRIPTION:Ribbon Cutting/Open House:  AgRevolution\n\nTuesday\, July 20\n\n1776 South Green Street\, Henderson\n\nOpen House:  11:00 a.m.-1:00 p.m.\n\nRibbon Cutting:  11:30 a.m.\n\nRibbon Cutting Sponsor:  Independence Bank\n\nMeal provided and Raffle drawing!
X-ALT-DESC;FMTTYPE=text/html:Ribbon Cutting/Open House:&nbsp\; AgRevolution<br />\nTuesday\, July 20<br />\n1776 South Green Street\, Henderson<br />\nOpen House:&nbsp\; 11:00 a.m.-1:00 p.m.<br />\nRibbon Cutting:&nbsp\; 11:30 a.m.<br />\nRibbon Cutting Sponsor:<span style="color:#008000\;">&nbsp\; </span><span style="color:#006400\;"><strong>Independence Bank</strong></span><br />\n<em>Meal provided and Raffle drawing!</em>
LOCATION:
UID:e.1514.572799
SEQUENCE:3
DTSTAMP:20260424T202829Z
URL:https://business.hendersonkychamber.com/events/details/ribbon-cutting-open-house-agrevolution-llc-572799
END:VEVENT

END:VCALENDAR
