BEGIN:VCALENDAR
VERSION:2.0
PRODID:-//ChamberMaster//Event Calendar 2.0//EN
METHOD:PUBLISH
X-PUBLISHED-TTL:P3D
REFRESH-INTERVAL:P3D
CALSCALE:GREGORIAN
BEGIN:VEVENT
DTSTART:20220318T160000Z
DTEND:20220318T163000Z
X-MICROSOFT-CDO-ALLDAYEVENT:FALSE
SUMMARY:Ribbon Cutting: Radiant Sun Boutique
DESCRIPTION:Ribbon Cutting:  Radiant Sun Boutique\n\nFriday\, March 18\n\n11:00 a.m. \n\n124 N. Main Street\, Henderson\, KY
X-ALT-DESC;FMTTYPE=text/html:Ribbon Cutting:&nbsp\; Radiant Sun Boutique<br />\nFriday\, March 18<br />\n11:00 a.m.&nbsp\;<br />\n124 N. Main Street\, Henderson\, KY
LOCATION:
UID:e.1514.572821
SEQUENCE:3
DTSTAMP:20260422T075919Z
URL:https://business.hendersonkychamber.com/events/details/ribbon-cutting-radiant-sun-boutique-572821
END:VEVENT

END:VCALENDAR
