BEGIN:VCALENDAR
VERSION:2.0
PRODID:-//ChamberMaster//Event Calendar 2.0//EN
METHOD:PUBLISH
X-PUBLISHED-TTL:P3D
REFRESH-INTERVAL:P3D
CALSCALE:GREGORIAN
BEGIN:VEVENT
DTSTART:20210401T163000Z
DTEND:20210401T170000Z
X-MICROSOFT-CDO-ALLDAYEVENT:FALSE
SUMMARY:Ribbon Cutting: Robert "Toddy" Todd State Farm
DESCRIPTION:Ribbon Cutting: Robert "Toddy" Todd State Farm\n\nThursday\, April 1st\n\n11:30 am\n\n132 Second Street\, Henderson\, KY\n\nRefreshments provided
X-ALT-DESC;FMTTYPE=text/html:Ribbon Cutting: Robert &quot\;Toddy&quot\; Todd State Farm<br />\nThursday\, April 1st<br />\n11:30 am<br />\n<span style="color: rgb(51\, 51\, 51)\; font-family: sans-serif\, Arial\, Verdana\, &quot\;Trebuchet MS&quot\;\; font-size: 13px\; background-color: rgb(255\, 255\, 255)\;">132 Second Street\, Henderson\, KY</span><br />\nRefreshments provided
LOCATION:
UID:e.1514.572777
SEQUENCE:3
DTSTAMP:20260425T013739Z
URL:https://business.hendersonkychamber.com/events/details/ribbon-cutting-robert-toddy-todd-state-farm-572777
END:VEVENT

END:VCALENDAR
