BEGIN:VCALENDAR
VERSION:2.0
PRODID:-//ChamberMaster//Event Calendar 2.0//EN
METHOD:PUBLISH
X-PUBLISHED-TTL:P3D
REFRESH-INTERVAL:P3D
CALSCALE:GREGORIAN
BEGIN:VEVENT
DTSTART:20260115T170000Z
DTEND:20260115T173000Z
X-MICROSOFT-CDO-ALLDAYEVENT:FALSE
SUMMARY:Ribbon Cutting: Roof Angel
DESCRIPTION:Roof Angel Ribbon Cutting\n\nThursday\, January 15 at 11:00 am\n\n660 US Hwy 41A\, Henderson\, KY 42420\n\nRibbon Cutting Sponsor: Field & Main Bank
X-ALT-DESC;FMTTYPE=text/html:<strong>Roof Angel Ribbon Cutting</strong><br />\nThursday\, January 15 at 11:00 am<br />\n660 US Hwy 41A\, Henderson\, KY 42420<br />\nRibbon Cutting Sponsor: Field &amp\; Main Bank
LOCATION:Roof Angel 660 US Hwy 41A Henderson\, KY 42420
UID:e.1514.573073
SEQUENCE:3
DTSTAMP:20260423T090016Z
URL:https://business.hendersonkychamber.com/events/details/ribbon-cutting-roof-angel-573073
END:VEVENT

END:VCALENDAR
