BEGIN:VCALENDAR
VERSION:2.0
PRODID:-//ChamberMaster//Event Calendar 2.0//EN
METHOD:PUBLISH
X-PUBLISHED-TTL:P3D
REFRESH-INTERVAL:P3D
CALSCALE:GREGORIAN
BEGIN:VEVENT
DTSTART:20220517T163000Z
DTEND:20220517T170000Z
X-MICROSOFT-CDO-ALLDAYEVENT:FALSE
SUMMARY:Ribbon Cutting: Ruoff Mortgage
DESCRIPTION:Ribbon Cutting:  Ruoff Mortgage\n\nTuesday\, May 17\n\n11:30 a.m.\n\n230 Second Street\, Suite 206\, Henderson\, KY
X-ALT-DESC;FMTTYPE=text/html:Ribbon Cutting:&nbsp\; Ruoff Mortgage<br />\nTuesday\, May 17<br />\n11:30 a.m.<br />\n230 Second Street\, Suite 206\, Henderson\, KY<br />\n<br />\n&nbsp\;
LOCATION:
UID:e.1514.572843
SEQUENCE:3
DTSTAMP:20260422T043126Z
URL:https://business.hendersonkychamber.com/events/details/ribbon-cutting-ruoff-mortgage-572843
END:VEVENT

END:VCALENDAR
