BEGIN:VCALENDAR
VERSION:2.0
PRODID:-//ChamberMaster//Event Calendar 2.0//EN
METHOD:PUBLISH
X-PUBLISHED-TTL:P3D
REFRESH-INTERVAL:P3D
CALSCALE:GREGORIAN
BEGIN:VEVENT
DTSTART:20210610T161500Z
DTEND:20210610T173000Z
X-MICROSOFT-CDO-ALLDAYEVENT:FALSE
SUMMARY:Ribbon Cutting: Salon on Main
DESCRIPTION:Salon on Main \n\nJune 10th at 11:15 a.m. \n\n421 N. Main St. \n\nHenderson\, KY 42420
X-ALT-DESC;FMTTYPE=text/html:Salon on Main&nbsp\;<br />\nJune 10th at 11:15 a.m.&nbsp\;<br />\n421 N. Main St.&nbsp\;<br />\nHenderson\, KY 42420&nbsp\;<br />\n&nbsp\;
LOCATION:
UID:e.1514.572784
SEQUENCE:3
DTSTAMP:20260424T221405Z
URL:https://business.hendersonkychamber.com/events/details/ribbon-cutting-salon-on-main-572784
END:VEVENT

END:VCALENDAR
