BEGIN:VCALENDAR
VERSION:2.0
PRODID:-//ChamberMaster//Event Calendar 2.0//EN
METHOD:PUBLISH
X-PUBLISHED-TTL:P3D
REFRESH-INTERVAL:P3D
CALSCALE:GREGORIAN
BEGIN:VEVENT
DTSTART:20210430T163000Z
DTEND:20210430T170000Z
X-MICROSOFT-CDO-ALLDAYEVENT:FALSE
SUMMARY:Ribbon Cutting: Shelter Insurance Lesley Liley
DESCRIPTION:Ribbon Cutting:  Shelter Insurance Lesley Liley\n\nFriday\, April 30\n\n11:30 a.m.\n\n417 S. Main Street\, Henderson \n\n\n\nRibbon cutting sponsor:  Independence Bank
X-ALT-DESC;FMTTYPE=text/html:Ribbon Cutting:&nbsp\; <a href="http://tps://www.shelterinsurance.com">Shelter Insurance Lesley Liley</a><br />\nFriday\, April 30<br />\n11:30 a.m.<br />\n417 S. Main Street\, Henderson&nbsp\;<br />\n<br />\n<em>Ribbon cutting sponsor:&nbsp\;&nbsp\;</em>Independence Bank&nbsp\;
LOCATION:
UID:e.1514.572769
SEQUENCE:3
DTSTAMP:20260425T013841Z
URL:https://business.hendersonkychamber.com/events/details/ribbon-cutting-shelter-insurance-lesley-liley-572769
END:VEVENT

END:VCALENDAR
