BEGIN:VCALENDAR
VERSION:2.0
PRODID:-//ChamberMaster//Event Calendar 2.0//EN
METHOD:PUBLISH
X-PUBLISHED-TTL:P3D
REFRESH-INTERVAL:P3D
CALSCALE:GREGORIAN
BEGIN:VEVENT
DTSTART:20210819T160000Z
DTEND:20210819T163000Z
X-MICROSOFT-CDO-ALLDAYEVENT:FALSE
SUMMARY:Ribbon Cutting: Sydney Kate Skin Spa
DESCRIPTION:Ribbon Cutting: Sydney Kate Skin Spa\n\nThursday\, August 19th\n\n11:00 a.m.\n\n230 Second Street\, Ste. 130\, Henderson\, KY
X-ALT-DESC;FMTTYPE=text/html:Ribbon Cutting: Sydney Kate Skin Spa<br />\nThursday\, August 19th<br />\n11:00 a.m.<br />\n230 Second Street\, Ste. 130\, Henderson\, KY<br />\n<br />\n&nbsp\;
LOCATION:
UID:e.1514.572803
SEQUENCE:3
DTSTAMP:20260424T190532Z
URL:https://business.hendersonkychamber.com/events/details/ribbon-cutting-sydney-kate-skin-spa-572803
END:VEVENT

END:VCALENDAR
