BEGIN:VCALENDAR
VERSION:2.0
PRODID:-//ChamberMaster//Event Calendar 2.0//EN
METHOD:PUBLISH
X-PUBLISHED-TTL:P3D
REFRESH-INTERVAL:P3D
CALSCALE:GREGORIAN
BEGIN:VEVENT
DTSTART:20210616T160000Z
DTEND:20210616T163000Z
X-MICROSOFT-CDO-ALLDAYEVENT:FALSE
SUMMARY:Ribbon Cutting: The Olive Leaf
DESCRIPTION:Ribbon Cutting:  The Olive Leaf\n\nJune 16\, 11:00 a.m.\n\n136 N. Main Street \n\nHenderson\, KY 42420
X-ALT-DESC;FMTTYPE=text/html:Ribbon Cutting:&nbsp\; The Olive Leaf<br />\nJune 16\, 11:00 a.m.<br />\n136 N. Main Street&nbsp\;<br />\nHenderson\, KY 42420&nbsp\;
LOCATION:
UID:e.1514.572783
SEQUENCE:3
DTSTAMP:20260424T221205Z
URL:https://business.hendersonkychamber.com/events/details/ribbon-cutting-the-olive-leaf-572783
END:VEVENT

END:VCALENDAR
