BEGIN:VCALENDAR
VERSION:2.0
PRODID:-//ChamberMaster//Event Calendar 2.0//EN
METHOD:PUBLISH
X-PUBLISHED-TTL:P3D
REFRESH-INTERVAL:P3D
CALSCALE:GREGORIAN
BEGIN:VEVENT
DTSTART:20220429T163000Z
DTEND:20220429T170000Z
X-MICROSOFT-CDO-ALLDAYEVENT:FALSE
SUMMARY:Ribbon Cutting: The Olive Leaf
DESCRIPTION:Ribbon Cutting:  The Olive Leaf\n\nFriday\, April 29\n\n11:30 a.m.\n\n136 N. Main Street\, Henderson
X-ALT-DESC;FMTTYPE=text/html:Ribbon Cutting:&nbsp\; The Olive Leaf<br />\nFriday\, April 29<br />\n11:30 a.m.<br />\n136 N. Main Street\, Henderson<br />\n&nbsp\;
LOCATION:
UID:e.1514.572835
SEQUENCE:3
DTSTAMP:20260422T060133Z
URL:https://business.hendersonkychamber.com/events/details/ribbon-cutting-the-olive-leaf-572835
END:VEVENT

END:VCALENDAR
