BEGIN:VCALENDAR
VERSION:2.0
PRODID:-//ChamberMaster//Event Calendar 2.0//EN
METHOD:PUBLISH
X-PUBLISHED-TTL:P3D
REFRESH-INTERVAL:P3D
CALSCALE:GREGORIAN
BEGIN:VEVENT
DTSTART:20211201T220000Z
DTEND:20211201T223000Z
X-MICROSOFT-CDO-ALLDAYEVENT:FALSE
SUMMARY:Ribbon Cutting: TheraTree Pediatric Therapy
DESCRIPTION:Ribbon Cutting:  TheraTree Pediatric Therapy \n\nWednesday\, December 1\n\n4:00 p.m.\n\n110 North Water Street\, Suite B\, Henderson\, KY\nRibbon Cutting Sponsor:  Independence Bank
X-ALT-DESC;FMTTYPE=text/html:Ribbon Cutting:&nbsp\;&nbsp\;TheraTree Pediatric Therapy&nbsp\;<br />\nWednesday\, December 1<br />\n4:00 p.m.<br />\n110 North Water Street\, Suite B\, Henderson\, KY\n<div>Ribbon Cutting Sponsor:&nbsp\;&nbsp\;<span style="color:#006400\;"><strong>Independence Bank</strong></span></div>\n
LOCATION:
UID:e.1514.572813
SEQUENCE:3
DTSTAMP:20260424T135242Z
URL:https://business.hendersonkychamber.com/events/details/ribbon-cutting-theratree-pediatric-therapy-572813
END:VEVENT

END:VCALENDAR
