BEGIN:VCALENDAR
VERSION:2.0
PRODID:-//ChamberMaster//Event Calendar 2.0//EN
METHOD:PUBLISH
X-PUBLISHED-TTL:P3D
REFRESH-INTERVAL:P3D
CALSCALE:GREGORIAN
BEGIN:VEVENT
DTSTART:20210429T194500Z
DTEND:20210429T201500Z
X-MICROSOFT-CDO-ALLDAYEVENT:FALSE
SUMMARY:Ribbon Cutting: Watch Communications
DESCRIPTION:Ribbon Cutting:  Watch Communications \n\nThursday\, April 28\n\nLocation:  Preston Arts Center - 2660 S. Green Street\, Henderson
X-ALT-DESC;FMTTYPE=text/html:Ribbon Cutting:&nbsp\; Watch Communications&nbsp\;<br />\nThursday\, April 28<br />\nLocation:&nbsp\; Preston Arts Center - 2660 S. Green Street\, Henderson<br />\n&nbsp\;
LOCATION:
UID:e.1514.572841
SEQUENCE:3
DTSTAMP:20260425T011819Z
URL:https://business.hendersonkychamber.com/events/details/ribbon-cutting-watch-communications-572841
END:VEVENT

END:VCALENDAR
