BEGIN:VCALENDAR
VERSION:2.0
PRODID:-//ChamberMaster//Event Calendar 2.0//EN
METHOD:PUBLISH
X-PUBLISHED-TTL:P3D
REFRESH-INTERVAL:P3D
CALSCALE:GREGORIAN
BEGIN:VEVENT
DTSTART:20220428T193000Z
DTEND:20220428T200000Z
X-MICROSOFT-CDO-ALLDAYEVENT:FALSE
SUMMARY:Ribbon Cutting: Watch Communications
DESCRIPTION:Ribbon Cutting:  Watch Communications \n\nThursday\, April 28\n\n2:30 p.m.\n\nPreston Arts Center - 2660 S. Green Street
X-ALT-DESC;FMTTYPE=text/html:Ribbon Cutting:&nbsp\; Watch Communications&nbsp\;<br />\nThursday\, April 28<br />\n2:30 p.m.<br />\nPreston Arts Center - 2660 S. Green Street&nbsp\;
LOCATION:
UID:e.1514.572842
SEQUENCE:3
DTSTAMP:20260422T060905Z
URL:https://business.hendersonkychamber.com/events/details/ribbon-cutting-watch-communications-572842
END:VEVENT

END:VCALENDAR
