BEGIN:VCALENDAR
VERSION:2.0
PRODID:-//ChamberMaster//Event Calendar 2.0//EN
METHOD:PUBLISH
X-PUBLISHED-TTL:P3D
REFRESH-INTERVAL:P3D
CALSCALE:GREGORIAN
BEGIN:VEVENT
DTSTART;VALUE=DATE:20251128
DTEND;VALUE=DATE:20251129
TRANSP:TRANSPARENT
X-MICROSOFT-CDO-ALLDAYEVENT:TRUE
SUMMARY:Shop Small - Local Love
DESCRIPTION:Shop Small. Local Love.\n\nThe Henderson Chamber of Commerce is partnering with Independence Bank to encourage our community to shop local this holiday season.\n\nIndependence Bank will be giving away Local Love Bags on November 28 from 9 a.m. to 5 p.m. Swing by\, grab a bag\, and make the most of the holiday deals at your favorite hometown locations.
X-ALT-DESC;FMTTYPE=text/html:<p data-end="137" data-start="114">Shop Small. Local Love.</p>\n\n<p data-end="271" data-start="139">The Henderson Chamber of Commerce is partnering&nbsp\;with Independence Bank to encourage our community to shop local this holiday season.</p>\n\n<p data-end="457" data-start="273">Independence Bank will be giving away Local Love Bags on November 28 from 9 a.m. to 5 p.m. Swing by\, grab a bag\, and make the most of the holiday deals at your favorite hometown locations.&nbsp\;</p>\n
LOCATION:Bag Pickup at Independence Bank 76 S. Green St.
UID:e.1514.573055
SEQUENCE:3
DTSTAMP:20260423T014836Z
URL:https://business.hendersonkychamber.com/events/details/shop-small-local-love-573055
END:VEVENT

END:VCALENDAR
