BEGIN:VCALENDAR
VERSION:2.0
PRODID:-//ChamberMaster//Event Calendar 2.0//EN
METHOD:PUBLISH
X-PUBLISHED-TTL:P3D
REFRESH-INTERVAL:P3D
CALSCALE:GREGORIAN
BEGIN:VEVENT
DTSTART:20200110T133000Z
DTEND:20200110T143000Z
X-MICROSOFT-CDO-ALLDAYEVENT:FALSE
SUMMARY:The Chamber Breakfast Club
DESCRIPTION:The Chamber Breakfast Club \n\nFriday\, January 10\n\n7:30 a.m.\n\nLocation:  Hometown Roots Event Room - 136 Second Street\, Henderson
X-ALT-DESC;FMTTYPE=text/html:The Chamber Breakfast Club&nbsp\;<br />\nFriday\, January 10<br />\n7:30 a.m.<br />\nLocation:&nbsp\; Hometown Roots Event Room - 136 Second Street\, Henderson<br />\n&nbsp\;
LOCATION:
UID:e.1514.572468
SEQUENCE:3
DTSTAMP:20260426T040149Z
URL:https://business.hendersonkychamber.com/events/details/the-chamber-breakfast-club-572468
END:VEVENT

END:VCALENDAR
