BEGIN:VCALENDAR
VERSION:2.0
PRODID:-//ChamberMaster//Event Calendar 2.0//EN
METHOD:PUBLISH
X-PUBLISHED-TTL:P3D
REFRESH-INTERVAL:P3D
CALSCALE:GREGORIAN
BEGIN:VEVENT
DTSTART:20200313T123000Z
DTEND:20200313T133000Z
X-MICROSOFT-CDO-ALLDAYEVENT:FALSE
SUMMARY:The Chamber Breakfast Club - Member Networking
DESCRIPTION:The Chamber Breakfast Club - Member Networking \n\nFriday\, March 13\n\n7:30 a.m.\n\nLocation:  Hometown Roots \n\nSponsor:  Field & Main Bank
X-ALT-DESC;FMTTYPE=text/html:The Chamber Breakfast Club - Member Networking&nbsp\;<br />\nFriday\, March 13<br />\n7:30 a.m.<br />\nLocation:&nbsp\; Hometown Roots&nbsp\;<br />\nSponsor:&nbsp\; Field &amp\; Main Bank<br />\n&nbsp\;
LOCATION:Hometown Roots 136 2nd Street Henderson\, KY 42420
UID:e.1514.572473
SEQUENCE:3
DTSTAMP:20260425T231820Z
URL:https://business.hendersonkychamber.com/events/details/the-chamber-breakfast-club-member-networking-03-13-2020-572473
END:VEVENT

END:VCALENDAR
