BEGIN:VCALENDAR
VERSION:2.0
PRODID:-//ChamberMaster//Event Calendar 2.0//EN
METHOD:PUBLISH
X-PUBLISHED-TTL:P3D
REFRESH-INTERVAL:P3D
CALSCALE:GREGORIAN
BEGIN:VEVENT
DTSTART:20210512T130000Z
DTEND:20210512T140000Z
X-MICROSOFT-CDO-ALLDAYEVENT:FALSE
SUMMARY:The Chamber Breakfast Club - Networking
DESCRIPTION:Chamber Breakfast Club - Networking \n\nNEW TIME AND DATE!\n\nWednesday\, May 12 \n\n8:00 a.m.
X-ALT-DESC;FMTTYPE=text/html:Chamber Breakfast Club - Networking&nbsp\;<br />\n<em>NEW TIME AND DATE!</em><br />\nWednesday\, May 12&nbsp\;<br />\n8:00 a.m.&nbsp\;<br />\n&nbsp\;
LOCATION:Hometown Roots - 136 Second Street\, Suite 100
UID:e.1514.572780
SEQUENCE:3
DTSTAMP:20260424T233746Z
URL:https://business.hendersonkychamber.com/events/details/the-chamber-breakfast-club-networking-572780
END:VEVENT

END:VCALENDAR
