BEGIN:VCALENDAR
VERSION:2.0
PRODID:-//ChamberMaster//Event Calendar 2.0//EN
METHOD:PUBLISH
X-PUBLISHED-TTL:P3D
REFRESH-INTERVAL:P3D
CALSCALE:GREGORIAN
BEGIN:VEVENT
DTSTART:20200227T143000Z
DTEND:20200227T223000Z
X-MICROSOFT-CDO-ALLDAYEVENT:FALSE
SUMMARY:Western KY Opioid Summit
DESCRIPTION:Western KY Opioid Summit: Community Solutions to Substance Use Disorder\n\n\n\nKeynote Speaker: Debra Jay - who appeared on Oprah Winfrey as an advisor for three seasons and Dr. Oz\n\n\n\nVIEW THE FLYER HERE
X-ALT-DESC;FMTTYPE=text/html:Western KY Opioid Summit: Community Solutions to Substance Use Disorder<br />\n<br />\nKeynote Speaker: Debra Jay - who appeared on Oprah Winfrey as an advisor for three seasons and Dr. Oz<br />\n<br />\n<a href="https://chambermaster.blob.core.windows.net/userfiles/UserFiles/chambers/1514/File/newfebopflyer2.pdf"><span style="font-size:20px\;"><strong>VIEW THE FLYER HERE</strong></span></a><br />\n&nbsp\;
LOCATION:Ballard Convention Center 605 E Arch Street Madisonville\, KY 42431
UID:e.1514.572467
SEQUENCE:3
DTSTAMP:20260426T005914Z
URL:https://business.hendersonkychamber.com/events/details/western-ky-opioid-summit-572467
END:VEVENT

END:VCALENDAR
